BEGIN:VCALENDAR
VERSION:2.0
PRODID:-//First Presbyterian Church of Port Jefferson - ECPv6.15.20//NONSGML v1.0//EN
CALSCALE:GREGORIAN
METHOD:PUBLISH
X-ORIGINAL-URL:https://pjpres.org
X-WR-CALDESC:Events for First Presbyterian Church of Port Jefferson
REFRESH-INTERVAL;VALUE=DURATION:PT1H
X-Robots-Tag:noindex
X-PUBLISHED-TTL:PT1H
BEGIN:VTIMEZONE
TZID:UTC
BEGIN:STANDARD
TZOFFSETFROM:+0000
TZOFFSETTO:+0000
TZNAME:UTC
DTSTART:20230101T000000
END:STANDARD
END:VTIMEZONE
BEGIN:VEVENT
DTSTART;TZID=UTC:20241006T100000
DTEND;TZID=UTC:20241006T110000
DTSTAMP:20260420T002845
CREATED:20240816T161557Z
LAST-MODIFIED:20240816T161610Z
UID:6701-1728208800-1728212400@pjpres.org
SUMMARY:Peace & Global Witness: World Communion Sunday
DESCRIPTION:Please join us on October 6th at the 10am Worship Service for World Communion Sunday and Peace & Global Witness Offering. This offering helps our neighbors in need-those who live next door\, down the street\, and across the globe. \n25% of this Offering Stays with our congregation to support peacemaking and reconciliation in our own community. \n25% of this Offering goes to our mid-council to in with other congregations to support peacemaking work in our region. \n50% of this Offering supports the work being done by Presbyterians across the globe. \nWHEN WE ALL DO A LITTLE\, IT ADDS UP TO A LOT!
URL:https://pjpres.org/calendars/peace-global-witness-world-communion-sunday/
END:VEVENT
BEGIN:VEVENT
DTSTART;TZID=UTC:20241006T100000
DTEND;TZID=UTC:20241006T110000
DTSTAMP:20260420T002845
CREATED:20240816T170209Z
LAST-MODIFIED:20240816T170314Z
UID:6713-1728208800-1728212400@pjpres.org
SUMMARY:Children's Choir Performance
DESCRIPTION:Please join us on October 6th at the 10am worship service as we enjoy the Children’s Choir.
URL:https://pjpres.org/calendars/childrens-choir/
END:VEVENT
BEGIN:VEVENT
DTSTART;TZID=UTC:20241027T100000
DTEND;TZID=UTC:20241027T113000
DTSTAMP:20260420T002845
CREATED:20241022T153608Z
LAST-MODIFIED:20241022T153657Z
UID:6740-1730023200-1730028600@pjpres.org
SUMMARY:Reformation Sunday
DESCRIPTION:Please join us for Reformation Sunday at the 10am Worship Service on October 27th. We invite everyone to wear red to Church this coming Sunday\, in respect for Reformation Sunday.\nWe wear red to remember the martyrs of Protestantism\, as well as the representation of the Holy Spirit.
URL:https://pjpres.org/calendars/reformation-sunday/
END:VEVENT
END:VCALENDAR