BEGIN:VCALENDAR
VERSION:2.0
PRODID:-//First Presbyterian Church of Port Jefferson - ECPv6.15.20//NONSGML v1.0//EN
CALSCALE:GREGORIAN
METHOD:PUBLISH
X-ORIGINAL-URL:https://pjpres.org
X-WR-CALDESC:Events for First Presbyterian Church of Port Jefferson
REFRESH-INTERVAL;VALUE=DURATION:PT1H
X-Robots-Tag:noindex
X-PUBLISHED-TTL:PT1H
BEGIN:VTIMEZONE
TZID:UTC
BEGIN:STANDARD
TZOFFSETFROM:+0000
TZOFFSETTO:+0000
TZNAME:UTC
DTSTART:20230101T000000
END:STANDARD
END:VTIMEZONE
BEGIN:VEVENT
DTSTART;TZID=UTC:20240328T180000
DTEND;TZID=UTC:20240328T183000
DTSTAMP:20260422T115549
CREATED:20240226T161517Z
LAST-MODIFIED:20240226T161517Z
UID:6603-1711648800-1711650600@pjpres.org
SUMMARY:Maundy Thursday-Lenten Soup
DESCRIPTION:Please join us on Maundy Thursday at 6pm as we join in Fellowship Hall for a soup meal before the 7pm Tenebrae Service of Shadows.
URL:https://pjpres.org/calendars/maundy-thursday-lenten-soup/
END:VEVENT
BEGIN:VEVENT
DTSTART;TZID=UTC:20240328T190000
DTEND;TZID=UTC:20240328T200000
DTSTAMP:20260422T115549
CREATED:20240226T161231Z
LAST-MODIFIED:20240226T161305Z
UID:6599-1711652400-1711656000@pjpres.org
SUMMARY:Tenebrae Service of Shadows - March 28th
DESCRIPTION:The Tenebrae Service\, which will be preceded by Holy Communion\, is an adaptation of an early Fourth Century Worship Service. Literally meaning “Shadows” or “Darkness”\, this Service of Shadows utilizes sacred scripture and music to interpret the Passion (suffering) of Christ. The gradual extinguishing of candles symbolizes the growing shadow of the crucifixion looming over Jesus and his isolation in darkness as his disciples desert him. The congregation is invited to leave the church in silence\, reflecting on our Savior’s suffering\, loneliness\, and death for our sakes.
URL:https://pjpres.org/calendars/tenebrae-service-of-shadows-march-28th-7pm/
END:VEVENT
BEGIN:VEVENT
DTSTART;TZID=UTC:20240329T100000
DTEND;TZID=UTC:20240329T140000
DTSTAMP:20260422T115549
CREATED:20240226T162044Z
LAST-MODIFIED:20240226T162044Z
UID:6605-1711706400-1711720800@pjpres.org
SUMMARY:Good Friday-March 29th
DESCRIPTION:The Sanctuary will be open on Good Friday\, March 29th from 10am to 2pm if you would like to walk the stations of the cross and meditate. \nPlease call Donna in the office and let her know you’ll be coming at (631) 473-0147.
URL:https://pjpres.org/calendars/good-friday-march-29th/
END:VEVENT
END:VCALENDAR