BEGIN:VCALENDAR
VERSION:2.0
PRODID:-//First Presbyterian Church of Port Jefferson - ECPv6.15.20//NONSGML v1.0//EN
CALSCALE:GREGORIAN
METHOD:PUBLISH
X-WR-CALNAME:First Presbyterian Church of Port Jefferson
X-ORIGINAL-URL:https://pjpres.org
X-WR-CALDESC:Events for First Presbyterian Church of Port Jefferson
REFRESH-INTERVAL;VALUE=DURATION:PT1H
X-Robots-Tag:noindex
X-PUBLISHED-TTL:PT1H
BEGIN:VTIMEZONE
TZID:UTC
BEGIN:STANDARD
TZOFFSETFROM:+0000
TZOFFSETTO:+0000
TZNAME:UTC
DTSTART:20230101T000000
END:STANDARD
END:VTIMEZONE
BEGIN:VEVENT
DTSTART;TZID=UTC:20240211T100000
DTEND;TZID=UTC:20240211T113000
DTSTAMP:20260422T134148
CREATED:20240117T194432Z
LAST-MODIFIED:20240222T204003Z
UID:6493-1707645600-1707651000@pjpres.org
SUMMARY:February 11th-Souper Bowl Sunday
DESCRIPTION:We will be collecting soup until Souper Bowl Sunday on February 11th for  Welcome Friends food pantry. There has never been a greater need to feed our community here in Port Jefferson. \nSoup can be dropped off on Sundays at 10 am in the large basket in the Narthex as you enter the Church or Monday to Friday\, 10 am to 2 pm. \nNot leaving the house? Need someone to shop for you? No problem\, you can mail your donation to : First Presbyterian Church of Port Jefferson\, PO Box 397\, Port Jefferson\, NY 11777.  Check memo: Souper Bowl Sunday \nAny questions\, you can call the Church office at (631) 473-0147. \nPlease join us after the 10am Worship Service for a soup luncheon in Fellowship Hall.
URL:https://pjpres.org/calendars/february-18th-souper-bowl-sunday/
END:VEVENT
END:VCALENDAR