BEGIN:VCALENDAR
VERSION:2.0
PRODID:-//First Presbyterian Church of Port Jefferson - ECPv6.15.20//NONSGML v1.0//EN
CALSCALE:GREGORIAN
METHOD:PUBLISH
X-ORIGINAL-URL:https://pjpres.org
X-WR-CALDESC:Events for First Presbyterian Church of Port Jefferson
REFRESH-INTERVAL;VALUE=DURATION:PT1H
X-Robots-Tag:noindex
X-PUBLISHED-TTL:PT1H
BEGIN:VTIMEZONE
TZID:UTC
BEGIN:STANDARD
TZOFFSETFROM:+0000
TZOFFSETTO:+0000
TZNAME:UTC
DTSTART:20220101T000000
END:STANDARD
END:VTIMEZONE
BEGIN:VEVENT
DTSTART;VALUE=DATE:20231202
DTEND;VALUE=DATE:20231204
DTSTAMP:20260422T170731
CREATED:20231128T183636Z
LAST-MODIFIED:20231128T183636Z
UID:6470-1701475200-1701647999@pjpres.org
SUMMARY:Music Event for 27th Annual Dickens Festival at First Presbyterian Church of Port Jefferson
DESCRIPTION:Please join us at First Presbyterian Church of Port Jefferson located at 107 South/Main Streets in the heart of Port Jefferson Village as we enter the Advent Season and warm your hearts with some beautiful Christmas music.   Visit our various vendors on the front lawn\, come in and get some soup or hot chocolate and kick off your holiday joy! \nSaturday\, Dec. 2: \n1:00 – 1:45 PM  Port Jefferson Middle School String Orchestra \nDr. Vanessa Salzman\, Director \n2:00 – 3:00 PM  Comsewogue JFK Middle School Band \nStephanie Amrine Jaklitsch\, Director \n3:00 – 3:45 PM  Mt. Sinai String Quartet \n4:00 – 5:00 PM  North Shore Chamber Choir\, The Messiah \nDavid Voss\, Director \n  \nSunday Dec. 3: \n1:00 – 1:30 PM  North Shore Suzuki String Ensemble \nAllison & Dave Johnson\, Directors \n1:40 – 2:10 PM  Port Jefferson Elementary School Select Choir \nLaurel Zimlinghaus\, Director \nPort Jefferson High School Chamber Choir \nChristine Tamer\, Director \n2:30 – 3:10 PM  Port Jefferson High School String Orchestra \nDr. Michael Caravello\, Director \n 
URL:https://pjpres.org/calendars/music-event-for-27th-annual-dickens-festival-at-first-presbyterian-church-of-port-jefferson/
LOCATION:First Presbyterian Church of Port Jefferson\, 107 South/Main Street\, Port Jefferson\, NY\, 11777
END:VEVENT
BEGIN:VEVENT
DTSTART;TZID=UTC:20231202T100000
DTEND;TZID=UTC:20231203T150000
DTSTAMP:20260422T170731
CREATED:20231128T182804Z
LAST-MODIFIED:20231128T190600Z
UID:6466-1701511200-1701615600@pjpres.org
SUMMARY:Mistletoe Lane-December 2nd and December 3rd
DESCRIPTION:
URL:https://pjpres.org/calendars/mistletoe-lane/
LOCATION:First Presbyterian Church of Port Jefferson\, 107 South/Main Street\, Port Jefferson\, NY\, 11777
END:VEVENT
BEGIN:VEVENT
DTSTART;TZID=UTC:20231211T100000
DTEND;TZID=UTC:20231211T110000
DTSTAMP:20260422T170731
CREATED:20231128T182254Z
LAST-MODIFIED:20231128T182259Z
UID:6463-1702288800-1702292400@pjpres.org
SUMMARY:Christian Education Christmas Pagaent
DESCRIPTION:Join us on Sunday\, December 11th at the 10am Worship Service for our annual Christian Education Christmas Pageant! A potluck luncheon will follow immediately after worship in Fellowship Hall.
URL:https://pjpres.org/calendars/christian-education-christmas-pagaent/
END:VEVENT
END:VCALENDAR