BEGIN:VCALENDAR
VERSION:2.0
PRODID:-//First Presbyterian Church of Port Jefferson - ECPv6.15.20//NONSGML v1.0//EN
CALSCALE:GREGORIAN
METHOD:PUBLISH
X-ORIGINAL-URL:https://pjpres.org
X-WR-CALDESC:Events for First Presbyterian Church of Port Jefferson
REFRESH-INTERVAL;VALUE=DURATION:PT1H
X-Robots-Tag:noindex
X-PUBLISHED-TTL:PT1H
BEGIN:VTIMEZONE
TZID:UTC
BEGIN:STANDARD
TZOFFSETFROM:+0000
TZOFFSETTO:+0000
TZNAME:UTC
DTSTART:20220101T000000
END:STANDARD
END:VTIMEZONE
BEGIN:VEVENT
DTSTART;TZID=UTC:20231105T100000
DTEND;TZID=UTC:20231105T113000
DTSTAMP:20260422T183548
CREATED:20230817T183216Z
LAST-MODIFIED:20230817T183216Z
UID:6455-1699178400-1699183800@pjpres.org
SUMMARY:Church School Bake Sale for Veterans
DESCRIPTION:Purchase sweet treats on Sunday November 5th! \nMoney raised will go towards Warrior Ranch Foundation-through horse interaction Warrior Ranch Foundation provides a safe haven of well- being for veterans\, first \nresponders and horses.
URL:https://pjpres.org/calendars/church-school-bake-sale-for-veterans/
END:VEVENT
END:VCALENDAR