BEGIN:VCALENDAR
VERSION:2.0
PRODID:-//First Presbyterian Church of Port Jefferson - ECPv6.15.20//NONSGML v1.0//EN
CALSCALE:GREGORIAN
METHOD:PUBLISH
X-WR-CALNAME:First Presbyterian Church of Port Jefferson
X-ORIGINAL-URL:https://pjpres.org
X-WR-CALDESC:Events for First Presbyterian Church of Port Jefferson
REFRESH-INTERVAL;VALUE=DURATION:PT1H
X-Robots-Tag:noindex
X-PUBLISHED-TTL:PT1H
BEGIN:VTIMEZONE
TZID:UTC
BEGIN:STANDARD
TZOFFSETFROM:+0000
TZOFFSETTO:+0000
TZNAME:UTC
DTSTART:20220101T000000
END:STANDARD
END:VTIMEZONE
BEGIN:VEVENT
DTSTART;TZID=UTC:20231001T100000
DTEND;TZID=UTC:20231031T140000
DTSTAMP:20260422T202051
CREATED:20230817T182652Z
LAST-MODIFIED:20230817T182652Z
UID:6451-1696154400-1698760800@pjpres.org
SUMMARY:Church School Animal Shelter Mission
DESCRIPTION:During the Month of October our Church School will be collecting items to help a local animal shelter. Please bring in your items and drop them off in the box in the Fellowship Hall. \nAnimal Shelter Supply List \nBaby Blanket        Nursing Bottles     Collars and Leashes    Water Bowls      Cat Litter/Boxes \nWee Wee Pads      Food Bowls          Cat/Dog Food             Cat/ Dog Toys   Garbage Bags  Towels
URL:https://pjpres.org/calendars/church-school-animal-shelter-mission/
END:VEVENT
BEGIN:VEVENT
DTSTART;TZID=UTC:20231021T120000
DTEND;TZID=UTC:20231021T140000
DTSTAMP:20260422T202051
CREATED:20230817T172729Z
LAST-MODIFIED:20230817T172729Z
UID:6441-1697889600-1697896800@pjpres.org
SUMMARY:Blessing of the Animals-October 21st
DESCRIPTION:All are invited to bring your pets down to the church for a special Blessing of the Animals from Reverend Mark Applewhite during the Port Jefferson Harbor Fest on Saturday\, October 21st from Noon to 2 p.m. on the front lawn. Hope to see you and your animals there!! You can also bring a picture of a beloved pet to be blessed and light a candle in their honor. \nAs always\, animals should be on leashes or in cages (if need be) for the safety of everyone.  For more information\, please call the Church office at (631) 473-0147 or email office@pjpres.org.
URL:https://pjpres.org/calendars/blessing-of-the-animals-october-21st/
END:VEVENT
END:VCALENDAR