BEGIN:VCALENDAR
VERSION:2.0
PRODID:-//First Presbyterian Church of Port Jefferson - ECPv6.15.20//NONSGML v1.0//EN
CALSCALE:GREGORIAN
METHOD:PUBLISH
X-WR-CALNAME:First Presbyterian Church of Port Jefferson
X-ORIGINAL-URL:https://pjpres.org
X-WR-CALDESC:Events for First Presbyterian Church of Port Jefferson
REFRESH-INTERVAL;VALUE=DURATION:PT1H
X-Robots-Tag:noindex
X-PUBLISHED-TTL:PT1H
BEGIN:VTIMEZONE
TZID:UTC
BEGIN:STANDARD
TZOFFSETFROM:+0000
TZOFFSETTO:+0000
TZNAME:UTC
DTSTART:20220101T000000
END:STANDARD
END:VTIMEZONE
BEGIN:VEVENT
DTSTART;VALUE=DATE:20230514
DTEND;VALUE=DATE:20230515
DTSTAMP:20260423T041802
CREATED:20230505T175606Z
LAST-MODIFIED:20230509T162455Z
UID:6352-1684022400-1684108799@pjpres.org
SUMMARY:Happy Mother's Day
DESCRIPTION:
URL:https://pjpres.org/calendars/test-item/
LOCATION:First Presbyterian Church of Port Jefferson\, 107 South/Main Street\, Port Jefferson\, NY\, 11777
END:VEVENT
BEGIN:VEVENT
DTSTART;TZID=UTC:20230521T083000
DTEND;TZID=UTC:20230521T120000
DTSTAMP:20260423T041802
CREATED:20230508T152902Z
LAST-MODIFIED:20230508T152902Z
UID:6357-1684657800-1684670400@pjpres.org
SUMMARY:BSA Troop #45 Annual Pancake Breakfast 8:30am to Noon
DESCRIPTION:
URL:https://pjpres.org/calendars/bsa-troop-45-annual-pancake-breakfast-830am-to-noon/
END:VEVENT
BEGIN:VEVENT
DTSTART;TZID=UTC:20230528T100000
DTEND;TZID=UTC:20230528T110000
DTSTAMP:20260423T041802
CREATED:20230509T165629Z
LAST-MODIFIED:20230509T165629Z
UID:6423-1685268000-1685271600@pjpres.org
SUMMARY:Pentecost Sunday-May 28th
DESCRIPTION:Pentecost Offering is from April 10th to May 28th\, Pentecost Sunday. This is to celebrate the Holy Spirit and the birthday of the church. \n40% of the Pentecost Offering remains with our Congregation to support the ministries of our children and youth here at PJP. \n  \nThe remainder supports PC (USA) Youth Programs: \n25% goes to Young Adult Volunteers \n25% goes to support youth ministry \n10% goes to educate a child-Transform the World \nPsalm 71 testifies that a foundation of faith established during childhood helps ensure lifelong faith and service. The patterns and lessons established during these formative years continue to bear fruit throughout a person’s life. Your Pentecost Offering now until May 28th\, is a gift that keeps on giving in helping our children grow. \n“God\, from my youth you have taught me.”  Psalm 71:17 \n 
URL:https://pjpres.org/calendars/pentecost-sunday-may-28th/
LOCATION:First Presbyterian Church of Port Jefferson\, 107 South/Main Street\, Port Jefferson\, NY\, 11777
END:VEVENT
BEGIN:VEVENT
DTSTART;TZID=UTC:20230529T080000
DTEND;TZID=UTC:20230529T170000
DTSTAMP:20260423T041802
CREATED:20230529T163959Z
LAST-MODIFIED:20230509T155655Z
UID:5948-1685347200-1685379600@pjpres.org
SUMMARY:Memorial Day - Office closed Monday May 29th
DESCRIPTION:The office will be closed in observance of Memorial Day on Monday\, May 29th \nRe-opening on Tuesday\, May 30th.
URL:https://pjpres.org/calendars/memorial-day-office-closed/
END:VEVENT
END:VCALENDAR