BEGIN:VCALENDAR
VERSION:2.0
PRODID:-//First Presbyterian Church of Port Jefferson - ECPv6.15.20//NONSGML v1.0//EN
CALSCALE:GREGORIAN
METHOD:PUBLISH
X-WR-CALNAME:First Presbyterian Church of Port Jefferson
X-ORIGINAL-URL:https://pjpres.org
X-WR-CALDESC:Events for First Presbyterian Church of Port Jefferson
REFRESH-INTERVAL;VALUE=DURATION:PT1H
X-Robots-Tag:noindex
X-PUBLISHED-TTL:PT1H
BEGIN:VTIMEZONE
TZID:UTC
BEGIN:STANDARD
TZOFFSETFROM:+0000
TZOFFSETTO:+0000
TZNAME:UTC
DTSTART:20210101T000000
END:STANDARD
END:VTIMEZONE
BEGIN:VEVENT
DTSTART;TZID=UTC:20221027T090000
DTEND;TZID=UTC:20221231T143000
DTSTAMP:20260423T114414
CREATED:20211027T175818Z
LAST-MODIFIED:20221024T161743Z
UID:6185-1666861200-1672497000@pjpres.org
SUMMARY:Winter Coat Drive
DESCRIPTION:October 27th to December 21st we will be collecting coats for those in need. \nStart cleaning out those closets of coats you don’t wear or have outgrown to keep someone warm in our community this winter season! \nPlease hang your clean\, gently used coats on the coat rack in Fellowship Hall.
URL:https://pjpres.org/calendars/winter-coat-drive/
END:VEVENT
BEGIN:VEVENT
DTSTART;TZID=UTC:20221203T100000
DTEND;TZID=UTC:20221204T150000
DTSTAMP:20260423T114414
CREATED:20211129T173747Z
LAST-MODIFIED:20221024T162638Z
UID:6205-1670061600-1670166000@pjpres.org
SUMMARY:Dickens Festival Mistletoe Lane Craft Fair-Calling all Vendors!
DESCRIPTION:
URL:https://pjpres.org/calendars/mistletoe-lane-craft-fair-saturday-december-4th-and-sunday-december-5th-10-am-to-3pm/
LOCATION:First Presbyterian Church of Port Jefferson\, 107 South/Main Street\, Port Jefferson\, NY\, 11777
END:VEVENT
BEGIN:VEVENT
DTSTART;TZID=UTC:20221203T100000
DTEND;TZID=UTC:20221204T150000
DTSTAMP:20260423T114414
CREATED:20221024T174930Z
LAST-MODIFIED:20221024T181206Z
UID:6330-1670061600-1670166000@pjpres.org
SUMMARY:Mistletoe Lane at Annual 26th Dickens Festival -Port Jefferson Village
DESCRIPTION:Please join us on Saturday December 3rd and Sunday December 4th from 10am to 3pm for our 2nd First Presbyterian Church Mistletoe Lane Craft Fair. \nCome do your Christmas shopping in the heart of the village and enjoy some delicious treats as well! We are located in the heart of the village on the corner of 107 South/Main Street in Port Jefferson Village. Shop local and support your local community while walking around enjoying a wonderful holiday tradition! \n \nWe will have Music both days of the festival (Listing to be posted soon) with special performance by the North Shore Chamber Choir performing “The Messiah” at 4pm on Saturday\, December 3rd. \n \nPeople from far and near come here as it is magically transformed to the Dickensian era. Troupes of Dickens characters roam the streets with costumes\, period dialect and magical music as well! \nWe look forward to seeing everyone enjoy the Dickens Festival this year!
URL:https://pjpres.org/calendars/mistletoe-lane-at-annual-26th-dickens-festival-port-jefferson-village/
LOCATION:First Presbyterian Church of Port Jefferson\, 107 South/Main Street\, Port Jefferson\, NY\, 11777
END:VEVENT
BEGIN:VEVENT
DTSTART;TZID=UTC:20221218T100000
DTEND;TZID=UTC:20221218T110000
DTSTAMP:20260423T114414
CREATED:20221024T171507Z
LAST-MODIFIED:20221024T171507Z
UID:6322-1671357600-1671361200@pjpres.org
SUMMARY:Worship Service-Thankful and Blessed
DESCRIPTION:Change is a natural part of life that we must all embrace.\nHowever\, what never changes is God’s steadfast love.\nHis presence is always there to strengthen\, guide and comfort us.\n\nWith Pastor Richard retiring\, we begin to say farewell to him\, for the past fifteen years\, he has played such an important role in our faith journey.\n\nPlease join us at this special Worship Service.\n 
URL:https://pjpres.org/calendars/worship-service-thankful-and-blessed/
LOCATION:First Presbyterian Church of Port Jefferson\, 107 South/Main Street\, Port Jefferson\, NY\, 11777
END:VEVENT
BEGIN:VEVENT
DTSTART;TZID=UTC:20221224T190000
DTEND;TZID=UTC:20221224T200000
DTSTAMP:20260423T114414
CREATED:20221024T170200Z
LAST-MODIFIED:20221024T170200Z
UID:6210-1671908400-1671912000@pjpres.org
SUMMARY:Christmas Eve Candlelight Service
DESCRIPTION:Please join us on Saturday\, December 24th at 7pm for our Annual Christmas Eve Candlelight Service. \nThis night you will hear the story of shepherds and magi\, of maiden and carpenter\, of a stable and a star\, of prophets and angels and we too join the Journey to Bethlehem for a blessing.  May the hope that is born anew this night\, in the Christ Child\, be yours to receive and spread far and wide over the months of the year to come.  We are thankful that you may choose to worship with us that evening. \nMay the Christ child bless you with peace\, hope and love. \n 
URL:https://pjpres.org/calendars/christmas-eve-candlelight-service/
END:VEVENT
BEGIN:VEVENT
DTSTART;TZID=UTC:20221225T100000
DTEND;TZID=UTC:20221225T110000
DTSTAMP:20260423T114414
CREATED:20221024T172108Z
LAST-MODIFIED:20221024T172121Z
UID:6326-1671962400-1671966000@pjpres.org
SUMMARY:Pastor Richard's Final Worship Service
DESCRIPTION:With thanksgiving to God for blessing us with Pastor Richard these last 15 years of service here at First Presbyterian\, we joyfully ask you to join us on Sunday\, December 25th at the 10 am for Pastor Richards last Worship Service here at First Presbyterian Church of Port Jefferson.
URL:https://pjpres.org/calendars/pastor-richards-final-worship-service/
END:VEVENT
END:VCALENDAR