BEGIN:VCALENDAR
VERSION:2.0
PRODID:-//First Presbyterian Church of Port Jefferson - ECPv6.15.20//NONSGML v1.0//EN
CALSCALE:GREGORIAN
METHOD:PUBLISH
X-ORIGINAL-URL:https://pjpres.org
X-WR-CALDESC:Events for First Presbyterian Church of Port Jefferson
REFRESH-INTERVAL;VALUE=DURATION:PT1H
X-Robots-Tag:noindex
X-PUBLISHED-TTL:PT1H
BEGIN:VTIMEZONE
TZID:UTC
BEGIN:STANDARD
TZOFFSETFROM:+0000
TZOFFSETTO:+0000
TZNAME:UTC
DTSTART:20210101T000000
END:STANDARD
END:VTIMEZONE
BEGIN:VEVENT
DTSTART;TZID=UTC:20220905T080000
DTEND;TZID=UTC:20220905T170000
DTSTAMP:20260423T162258
CREATED:20210318T164415Z
LAST-MODIFIED:20220509T182313Z
UID:5950-1662364800-1662397200@pjpres.org
SUMMARY:Labor Day-Office Closed September 5th
DESCRIPTION:The office will be closed in observance of Labor Day. \nLabor Day is a federal holiday in the United States celebrated on the first Monday in September to honor and recognize the American labor movement and the works and contributions of laborers to the development and achievements of the United States.
URL:https://pjpres.org/calendars/labor-day-office-closed/
END:VEVENT
END:VCALENDAR