BEGIN:VCALENDAR
VERSION:2.0
PRODID:-//First Presbyterian Church of Port Jefferson - ECPv6.15.20//NONSGML v1.0//EN
CALSCALE:GREGORIAN
METHOD:PUBLISH
X-ORIGINAL-URL:https://pjpres.org
X-WR-CALDESC:Events for First Presbyterian Church of Port Jefferson
REFRESH-INTERVAL;VALUE=DURATION:PT1H
X-Robots-Tag:noindex
X-PUBLISHED-TTL:PT1H
BEGIN:VTIMEZONE
TZID:UTC
BEGIN:STANDARD
TZOFFSETFROM:+0000
TZOFFSETTO:+0000
TZNAME:UTC
DTSTART:20210101T000000
END:STANDARD
END:VTIMEZONE
BEGIN:VEVENT
DTSTART;TZID=UTC:20220605T113000
DTEND;TZID=UTC:20220605T123000
DTSTAMP:20260423T203556
CREATED:20220509T180721Z
LAST-MODIFIED:20220509T180721Z
UID:6271-1654428600-1654432200@pjpres.org
SUMMARY:Labyrinth Walk -June 5th-11:35
DESCRIPTION:LABYRINTH WALK AT AVALON PARK-Sunday June 5th \nCome experience the Spiritual practice of a LabyrinthWalk with Pastor Richard and church friends.  We will rendezvous at the Shep Jones Lane parking lot (two streets past the mill on Harbor Road past the pond) at 11:35 am following worship and take a brief 1/2 mile walk to the Labyrinth. \nThere we will learn about how and what a Labyrinth walk is and each of us can make this short contemplative journey.  Afterward\, families will have free-time for the opportunity to continue to walk the wonderful Avalon grounds\, have a picnic lunch\, or depart if desired. \nPlease contact Donna at the Church office to reserve you space and so I know you are coming. Avalon Parking link: https://goo.gl/maps/si7tXaWxPnT7BgsX8 \nEmail Donna at – office@pjpres.org \n  \n  \n 
URL:https://pjpres.org/calendars/labyrinth-walk-june-5th-1135/
END:VEVENT
END:VCALENDAR