BEGIN:VCALENDAR
VERSION:2.0
PRODID:-//First Presbyterian Church of Port Jefferson - ECPv6.15.20//NONSGML v1.0//EN
CALSCALE:GREGORIAN
METHOD:PUBLISH
X-WR-CALNAME:First Presbyterian Church of Port Jefferson
X-ORIGINAL-URL:https://pjpres.org
X-WR-CALDESC:Events for First Presbyterian Church of Port Jefferson
REFRESH-INTERVAL;VALUE=DURATION:PT1H
X-Robots-Tag:noindex
X-PUBLISHED-TTL:PT1H
BEGIN:VTIMEZONE
TZID:UTC
BEGIN:STANDARD
TZOFFSETFROM:+0000
TZOFFSETTO:+0000
TZNAME:UTC
DTSTART:20200101T000000
END:STANDARD
END:VTIMEZONE
BEGIN:VEVENT
DTSTART;TZID=UTC:20210513T093000
DTEND;TZID=UTC:20211231T143000
DTSTAMP:20260424T051752
CREATED:20210513T145420Z
LAST-MODIFIED:20210513T151730Z
UID:6019-1620898200-1640961000@pjpres.org
SUMMARY:Paint the Church 2021
DESCRIPTION:
URL:https://pjpres.org/calendars/paint-the-church-2021/
END:VEVENT
BEGIN:VEVENT
DTSTART;VALUE=DATE:20211101
DTEND;VALUE=DATE:20211123
DTSTAMP:20260424T051752
CREATED:20211027T175349Z
LAST-MODIFIED:20211027T175349Z
UID:6178-1635724800-1637625599@pjpres.org
SUMMARY:Thanksgiving Food Drive
DESCRIPTION:Beginning November 1st Christian Education will be collecting Food for Thanksgiving meals for those in need.
URL:https://pjpres.org/calendars/thanksgiving-food-drive/
LOCATION:First Presbyterian Church of Port Jefferson\, 107 South/Main Street\, Port Jefferson\, NY\, 11777
END:VEVENT
BEGIN:VEVENT
DTSTART;TZID=UTC:20211125T080000
DTEND;TZID=UTC:20211125T170000
DTSTAMP:20260424T051752
CREATED:20210318T164828Z
LAST-MODIFIED:20210318T165138Z
UID:5952-1637827200-1637859600@pjpres.org
SUMMARY:Office Closed
DESCRIPTION:The office will be closed in observance of Thanksgiving on November  25 & 26th\, re-opening on Monday\, November 29th.
URL:https://pjpres.org/calendars/office-closed-2/
END:VEVENT
END:VCALENDAR