BEGIN:VCALENDAR
VERSION:2.0
PRODID:-//First Presbyterian Church of Port Jefferson - ECPv6.15.20//NONSGML v1.0//EN
CALSCALE:GREGORIAN
METHOD:PUBLISH
X-ORIGINAL-URL:https://pjpres.org
X-WR-CALDESC:Events for First Presbyterian Church of Port Jefferson
REFRESH-INTERVAL;VALUE=DURATION:PT1H
X-Robots-Tag:noindex
X-PUBLISHED-TTL:PT1H
BEGIN:VTIMEZONE
TZID:UTC
BEGIN:STANDARD
TZOFFSETFROM:+0000
TZOFFSETTO:+0000
TZNAME:UTC
DTSTART:20200101T000000
END:STANDARD
END:VTIMEZONE
BEGIN:VEVENT
DTSTART;TZID=UTC:20210401T193000
DTEND;TZID=UTC:20210401T203000
DTSTAMP:20260424T152258
CREATED:20210318T163128Z
LAST-MODIFIED:20210318T173203Z
UID:5943-1617305400-1617309000@pjpres.org
SUMMARY:Tenebrae Service of Shadows-Maundy Thursday
DESCRIPTION:This is an In-person Worship Service or  you can join us on our  Facebook page to see the Virtual Live Worship Service at 7:30 pm. Clink on the link below to join: \nhttps://www.facebook.com/pg/First-Presbyterian-Church-of-Port-Jefferson-Activities-Missions-116116551804042/videos/?ref=page_internal \n \nThe Tenebrae Service\, which will be preceded by Holy Communion\, is an adaptation of an early Fourth Century Worship Service.  Literally meaning “Shadows” or “Darkness”\, this Service of Shadows utilizes sacred scripture and music to interpret the Passion (suffering) of Christ. The gradual extinguishing of candles symbolizes the growing shadow of the crucifixion looming over Jesus and his isolation in darkness as his disciples desert him. The congregation is invited to leave the church in silence\, reflecting on our Savior’s suffering\, loneliness\, and death for our sakes.
URL:https://pjpres.org/calendars/tenebrae-service-of-shadows-maundy-thursday/
END:VEVENT
BEGIN:VEVENT
DTSTART;TZID=UTC:20210405T080000
DTEND;TZID=UTC:20210405T170000
DTSTAMP:20260424T152258
CREATED:20210318T163419Z
LAST-MODIFIED:20210318T163419Z
UID:5945-1617609600-1617642000@pjpres.org
SUMMARY:Office Closed
DESCRIPTION:The office will be closed on Monday\, April 5th.
URL:https://pjpres.org/calendars/office-closed/
END:VEVENT
END:VCALENDAR