BEGIN:VCALENDAR
VERSION:2.0
PRODID:-//First Presbyterian Church of Port Jefferson - ECPv6.15.20//NONSGML v1.0//EN
CALSCALE:GREGORIAN
METHOD:PUBLISH
X-WR-CALNAME:First Presbyterian Church of Port Jefferson
X-ORIGINAL-URL:https://pjpres.org
X-WR-CALDESC:Events for First Presbyterian Church of Port Jefferson
REFRESH-INTERVAL;VALUE=DURATION:PT1H
X-Robots-Tag:noindex
X-PUBLISHED-TTL:PT1H
BEGIN:VTIMEZONE
TZID:UTC
BEGIN:STANDARD
TZOFFSETFROM:+0000
TZOFFSETTO:+0000
TZNAME:UTC
DTSTART:20230101T000000
END:STANDARD
END:VTIMEZONE
BEGIN:VEVENT
DTSTART;TZID=UTC:20241124T113000
DTEND;TZID=UTC:20241124T120000
DTSTAMP:20260420T070535
CREATED:20241001T151747Z
LAST-MODIFIED:20241001T151747Z
UID:6719-1732447800-1732449600@pjpres.org
SUMMARY:Congregational Meeting
DESCRIPTION:A Congregational Meeting of the First Presbyterian Church of Port Jefferson has been called by the Session to be held on November 24\, 2024\, in the sanctuary\, immediately following the 10 a.m. worship service\, for the purpose of electing Deacons and Elders. \nDarlene Behrens\, Clerk of Session
URL:https://pjpres.org/calendars/congregational-meeting/
END:VEVENT
BEGIN:VEVENT
DTSTART;TZID=UTC:20241128T080000
DTEND;TZID=UTC:20241129T170000
DTSTAMP:20260420T070535
CREATED:20240717T151156Z
LAST-MODIFIED:20240717T151236Z
UID:6673-1732780800-1732899600@pjpres.org
SUMMARY:Thanksgiving - Office Closed
DESCRIPTION:The Church Office will be closed on Thursday\, November 28th to November 29th for the Thanksgiving Holiday. \nWe wish everyone a blessed Thanksgiving as we gather together with family\, friends and neighbors.
URL:https://pjpres.org/calendars/thanksgiving-office-closed/
END:VEVENT
BEGIN:VEVENT
DTSTART;TZID=UTC:20241207T100000
DTEND;TZID=UTC:20241208T150000
DTSTAMP:20260420T070535
CREATED:20241001T153030Z
LAST-MODIFIED:20241001T153030Z
UID:6723-1733565600-1733670000@pjpres.org
SUMMARY:Mistletoe Lane 2024 - 28th Dickens Festival
DESCRIPTION:Please join us for Mistletoe Lane during the Dickens Festival on December 7th & 8th at First Presbyterian Church of Port Jefferson\, located in the heart of the village at 107 South/Main Street from 10am to 3pm each day. Come down and shop local in the village while enjoying the ambience of the 28th Dickens Festival! A wide variety of vendors will surely make completing your shopping lists for the holidays easy and fun!\n\n\nWe will also have live holiday music in our Sanctuary from 1pm to 4/5pm. Pop in and hear some incredible singers and musicians that will lift your heart up to the joy of the Season of Advent! Once again\, the North Shore Chamber Choir will be sharing their incredible talents singing “The Messiah”\, which is a don’t miss of the holiday season!\n\nVendors \nWe invite you to join us once again for this festive event\, offering a wonderful opportunity to showcase\nyour handcrafted goods to a large and enthusiastic audience.\n\nThe pricing for vendor spaces remains the same as last year\,\nwith a 10×10 two-day spot costing $125 and a 10×10 single-day spot available for $75. This is a rain or shine event.\n\nYou can now purchase a booth using this link: https://firstpresbyterianchurch.betterworld.org/events/mistletoe-lane?\nEmail office@pjpres.org if you have any questions about this event.
URL:https://pjpres.org/calendars/mistletoe-lane-2024-28th-dickens-festival/
END:VEVENT
BEGIN:VEVENT
DTSTART;TZID=UTC:20241212T190000
DTEND;TZID=UTC:20241224T200000
DTSTAMP:20260420T070535
CREATED:20241212T151907Z
LAST-MODIFIED:20241212T152135Z
UID:6773-1734030000-1735070400@pjpres.org
SUMMARY:Christmas Eve Candlelight Service
DESCRIPTION:Please join us on Christmas Eve at 7pm at 107 South/Main Street in the heart of Port Jefferson Village  as we hear the story of shepherds and magi\, of maiden and carpenter\, of a stable and a star\, of prophets and angels and we too join the Journey to Bethlehem for a blessing.  May the hope that is born anew this night in the Christ Child be yours to receive and spread far and wide over the months of this year to come.  Come worship with us and may the Christ child bless you with peace\, hope and love.
URL:https://pjpres.org/calendars/christmas-eve-candlelight-service-2/
END:VEVENT
BEGIN:VEVENT
DTSTART;TZID=UTC:20241215T100000
DTEND;TZID=UTC:20241215T110000
DTSTAMP:20260420T070535
CREATED:20241212T152417Z
LAST-MODIFIED:20241212T152417Z
UID:6779-1734256800-1734260400@pjpres.org
SUMMARY:Third Sunday of Advent-Christmas Pageant
DESCRIPTION:Join us at the 10am Worship Service on the Third Sunday of Advent where we will celebrate our children and their singing with costumes and exuberance. What a perfect day to focus on the joy that God provides all of us\, especially in community with our children.  Joy to this little world\, in the heart of the village. All are welcome at First Presbyterian.
URL:https://pjpres.org/calendars/third-sunday-of-advent-christmas-pageant/
END:VEVENT
BEGIN:VEVENT
DTSTART;TZID=UTC:20241221T190000
DTEND;TZID=UTC:20241221T200000
DTSTAMP:20260420T070535
CREATED:20241212T151408Z
LAST-MODIFIED:20241212T151408Z
UID:6769-1734807600-1734811200@pjpres.org
SUMMARY:Service of Darkness and the Promise of Christmas
DESCRIPTION:Please join us for the Service of Darkness and the Promise of Christmas on Saturday\, December 21st at 7pm. This service is an observance of the other Christmas\, where Christ is present in the darkness of our lives. For many Christmas time is not a joyful one\, but rather dark and painful\, and it is into that reality that our savior was born – the poverty of a stable\, facing homelessness as a refugee\, fleeing violence\, and not knowing what was to occur next.
URL:https://pjpres.org/calendars/service-of-darkness-and-the-promise-of-christmas-2/
END:VEVENT
BEGIN:VEVENT
DTSTART;TZID=UTC:20250403T160000
DTEND;TZID=UTC:20250403T200000
DTSTAMP:20260420T070535
CREATED:20250403T180010Z
LAST-MODIFIED:20250403T180010Z
UID:6850-1743696000-1743710400@pjpres.org
SUMMARY:Christian Education Mission - Panera Bread Port Jefferson Station
DESCRIPTION:Join us on April 3rd from 4-8pm as we raise funds for Christian Education Mission: Heifer International. Use code FUN4U at purchase. \n 
URL:https://pjpres.org/calendars/christian-education-mission-panera-bread-port-jefferson-station/
END:VEVENT
BEGIN:VEVENT
DTSTART;TZID=UTC:20250417T180000
DTEND;TZID=UTC:20250417T190000
DTSTAMP:20260420T070535
CREATED:20250403T165741Z
LAST-MODIFIED:20250403T165917Z
UID:6838-1744912800-1744916400@pjpres.org
SUMMARY:Maundy Thursday Lenten Soup
DESCRIPTION:Please join us on Maundy Thursday at 6pm as we join in Fellowship Hall for a soup meal before the 7pm Tenebrae Service of Shadows.
URL:https://pjpres.org/calendars/maundy-thursday-lenten-soup-2/
END:VEVENT
BEGIN:VEVENT
DTSTART;TZID=UTC:20250417T190000
DTEND;TZID=UTC:20250417T200000
DTSTAMP:20260420T070535
CREATED:20250403T170156Z
LAST-MODIFIED:20250403T170156Z
UID:6842-1744916400-1744920000@pjpres.org
SUMMARY:Tenebrae Service -Maundy Thursday
DESCRIPTION:The Tenebrae Service\, which will be preceded by Holy Communion\, is an adaptation of an early Fourth Century Worship Service. Literally meaning “Shadows” or “Darkness”\, this Service of Shadows utilizes sacred scripture and music to interpret the Passion (suffering) of Christ. The gradual extinguishing of candles symbolizes the growing shadow of the crucifixion looming over Jesus and his isolation in darkness as his disciples desert him. The congregation is invited to leave the church in silence\, reflecting on our Savior’s suffering\, loneliness\, and death for our sakes.
URL:https://pjpres.org/calendars/tenebrae-service-maundy-thursday/
END:VEVENT
BEGIN:VEVENT
DTSTART;TZID=UTC:20250420T111500
DTEND;TZID=UTC:20250420T120000
DTSTAMP:20260420T070535
CREATED:20250403T173021Z
LAST-MODIFIED:20250403T174550Z
UID:6844-1745147700-1745150400@pjpres.org
SUMMARY:Easter Egg Hunt After the 10am Worship Service
DESCRIPTION:Join us on the front yard of the church after the 10am Worship Service for \nChristian Education’s Annual Easter Egg Hunt.
URL:https://pjpres.org/calendars/easter-egg-hunt-after-the-10am-worship-service/
END:VEVENT
BEGIN:VEVENT
DTSTART;TZID=UTC:20250502T193000
DTEND;TZID=UTC:20250502T203000
DTSTAMP:20260420T070535
CREATED:20250403T165150Z
LAST-MODIFIED:20250403T174721Z
UID:6832-1746214200-1746217800@pjpres.org
SUMMARY:East End's Women Concert-May 2nd 7:30pm
DESCRIPTION:The East End Women’s Choir presents “And She Sings” on Friday\, May 2nd at 7:30pm. Please join us in person at First Presbyterian Church of Port Jefferson at 107 South/Main Street in the heart of Port Jefferson Village and kick off your spring! \n 
URL:https://pjpres.org/calendars/east-ends-women-concert-may-2nd-730pm/
END:VEVENT
BEGIN:VEVENT
DTSTART;TZID=UTC:20250507T080000
DTEND;TZID=UTC:20250507T170000
DTSTAMP:20260420T070535
CREATED:20250507T183740Z
LAST-MODIFIED:20250507T183740Z
UID:6875-1746604800-1746637200@pjpres.org
SUMMARY:
DESCRIPTION:
URL:https://pjpres.org/calendars/6875/
END:VEVENT
BEGIN:VEVENT
DTSTART;TZID=UTC:20250518T140000
DTEND;TZID=UTC:20250518T160000
DTSTAMP:20260420T070535
CREATED:20250507T182618Z
LAST-MODIFIED:20250507T183714Z
UID:6869-1747576800-1747584000@pjpres.org
SUMMARY:First Presbyterian Church of Port Jefferson Spring Concert
DESCRIPTION:
URL:https://pjpres.org/calendars/6869/
END:VEVENT
BEGIN:VEVENT
DTSTART;TZID=UTC:20251124T080000
DTEND;TZID=UTC:20251124T170000
DTSTAMP:20260420T070535
CREATED:20251124T194403Z
LAST-MODIFIED:20251124T194408Z
UID:6910-1763971200-1764003600@pjpres.org
SUMMARY:Voices of Christmas: A Festive Recital of Solos and Duets
DESCRIPTION:Please join us on Sunday\, November 30th at 4:30pm at 107 South/Main Street in the heart of Port Jefferson Village for Voices of Christmas: A Festive Recital of Solos and Duets with Grace Cazzaniga\, Soprano\, Beatrix Postley\, Soprano and Abhay Saha\, Pianist.
URL:https://pjpres.org/calendars/voices-of-christmas-a-festive-recital-of-solos-and-duets/
END:VEVENT
BEGIN:VEVENT
DTSTART;TZID=UTC:20251206T160000
DTEND;TZID=UTC:20251206T170000
DTSTAMP:20260420T070535
CREATED:20251124T192808Z
LAST-MODIFIED:20251124T192817Z
UID:6901-1765036800-1765040400@pjpres.org
SUMMARY:North Shore Chamber Choir: Handel's Messiah
DESCRIPTION:
URL:https://pjpres.org/calendars/north-shore-chamber-choir-handels-messiah/
END:VEVENT
BEGIN:VEVENT
DTSTART;TZID=UTC:20251213T170000
DTEND;TZID=UTC:20251213T200000
DTSTAMP:20260420T070535
CREATED:20251124T193259Z
LAST-MODIFIED:20251124T193259Z
UID:6905-1765645200-1765656000@pjpres.org
SUMMARY:Port Jefferson Lantern Light House Tour
DESCRIPTION:First Presbyterian Church is happy to be part of the Port Jefferson Lantern Light House Tour on December 13th from 5-8pm. Come listen to some live piano music and meet Pastor Emily Fowler. Hosted by the Port Jefferson Chamber of Commerce.
URL:https://pjpres.org/calendars/port-jefferson-lantern-light-house-tour/
END:VEVENT
END:VCALENDAR